BEGIN:VCALENDAR
VERSION:2.0
PRODID:spatie/icalendar-generator
DESCRIPTION:Évènements de Arquebusiers du Pays d&amp;#039\;Ancenis
X-WR-CALDESC:Évènements de Arquebusiers du Pays d&amp;#039\;Ancenis
REFRESH-INTERVAL;VALUE=DURATION:PT1440M
X-PUBLISHED-TTL:PT1440M
BEGIN:VTIMEZONE
TZID:Europe/Paris
BEGIN:STANDARD
DTSTART:20251026T030000Z
TZOFFSETFROM:+0200
TZOFFSETTO:+0100
END:STANDARD
BEGIN:DAYLIGHT
DTSTART:20260329T020000Z
TZOFFSETFROM:+0100
TZOFFSETTO:+0200
END:DAYLIGHT
END:VTIMEZONE
BEGIN:VTIMEZONE
TZID:UTC
BEGIN:STANDARD
DTSTART:20250723T213242Z
TZOFFSETFROM:+0000
TZOFFSETTO:+0000
END:STANDARD
END:VTIMEZONE
BEGIN:VEVENT
UID:455371-325
DTSTAMP:20260419T213242Z
SUMMARY:Fermé - Maintenance
LOCATION:
ORGANIZER;CN=Paul:MAILTO:paul.compas@gmail.com
RRULE:FREQ=WEEKLY;UNTIL=20260831T000000Z
DTSTART;TZID=Europe/Paris;VALUE=DATE:20260414
DTEND;TZID=Europe/Paris;VALUE=DATE:20260415
X-ALT-DESC;FMTTYPE=TEXT/HTML:
CATEGORIES:Fermeture
URL;VALUE=URI:https://www.arquebusiersancenis.fr/events/ferme-maintenance-5
 /?mc_id=455371
METHOD:PUBLISH
END:VEVENT
END:VCALENDAR